BEGIN:VCALENDAR
VERSION:2.0
PRODID:-//Casa Grande Residence Jakarta - ECPv4.9.13//NONSGML v1.0//EN
CALSCALE:GREGORIAN
METHOD:PUBLISH
X-WR-CALNAME:Casa Grande Residence Jakarta
X-ORIGINAL-URL:https://casagranderesidence.com
X-WR-CALDESC:Events for Casa Grande Residence Jakarta
BEGIN:VTIMEZONE
TZID:UTC
BEGIN:STANDARD
TZOFFSETFROM:+0000
TZOFFSETTO:+0000
TZNAME:UTC
DTSTART:20190101T000000
END:STANDARD
END:VTIMEZONE
BEGIN:VEVENT
DTSTART;TZID=UTC:20190523T144702
DTEND;TZID=UTC:20190523T144702
DTSTAMP:20260424T132521
CREATED:20190522T140759Z
LAST-MODIFIED:20190523T144701Z
UID:488-1558622822-1558622822@casagranderesidence.com
SUMMARY:Introducing a new residential complex
DESCRIPTION:\n\nConnecting door to mall kota kasablanka\n\n\n
URL:https://casagranderesidence.com/event/introducing-a-new-residential-complex/
LOCATION:Windsor Apartments\, 123\, New Lenox\, Chicago\, IL\, United States
CATEGORIES:Promo
END:VEVENT
END:VCALENDAR